BEGIN:VCALENDAR
VERSION:2.0
PRODID:-//St John GOP - ECPv6.15.20//NONSGML v1.0//EN
CALSCALE:GREGORIAN
METHOD:PUBLISH
X-WR-CALNAME:St John GOP
X-ORIGINAL-URL:https://stjohngop.us
X-WR-CALDESC:Events for St John GOP
REFRESH-INTERVAL;VALUE=DURATION:PT1H
X-Robots-Tag:noindex
X-PUBLISHED-TTL:PT1H
BEGIN:VTIMEZONE
TZID:America/Chicago
BEGIN:DAYLIGHT
TZOFFSETFROM:-0600
TZOFFSETTO:-0500
TZNAME:CDT
DTSTART:20230312T080000
END:DAYLIGHT
BEGIN:STANDARD
TZOFFSETFROM:-0500
TZOFFSETTO:-0600
TZNAME:CST
DTSTART:20231105T070000
END:STANDARD
BEGIN:DAYLIGHT
TZOFFSETFROM:-0600
TZOFFSETTO:-0500
TZNAME:CDT
DTSTART:20240310T080000
END:DAYLIGHT
BEGIN:STANDARD
TZOFFSETFROM:-0500
TZOFFSETTO:-0600
TZNAME:CST
DTSTART:20241103T070000
END:STANDARD
BEGIN:DAYLIGHT
TZOFFSETFROM:-0600
TZOFFSETTO:-0500
TZNAME:CDT
DTSTART:20250309T080000
END:DAYLIGHT
BEGIN:STANDARD
TZOFFSETFROM:-0500
TZOFFSETTO:-0600
TZNAME:CST
DTSTART:20251102T070000
END:STANDARD
END:VTIMEZONE
BEGIN:VEVENT
DTSTART;TZID=America/Chicago:20240319T163000
DTEND;TZID=America/Chicago:20240319T193000
DTSTAMP:20260424T044909
CREATED:20240210T000355Z
LAST-MODIFIED:20240226T235524Z
UID:2508-1710865800-1710876600@stjohngop.us
SUMMARY:Louisiana Republican CAUCUS
DESCRIPTION:The Republican Party of Louisiana will hold CONGRESSIONAL DISTRICT CAUCUSES to elect delegates the 2024 Republican National Convention in Milwaukee\, WI. The caucuses will be held on Tuesday\, March 19th from 4:30 – 7:30 pm (see below). The state convention will be held on April 6th in Baton Rouge. \nSt. James and St. John Parish Republicans will VOTE at the Hampton Inn on 51 in LaPlace. \nLike this:Like Loading...
URL:https://stjohngop.us/event/louisiana-republican-caucus/
LOCATION:Hampton Inn LaPlace at 4288 US-51\, LaPlace\, LA 70068.\, 4288 US-51\, LaPlace\, LA\, 70068\, United States
CATEGORIES:Elections,Republican Meetings
ATTACH;FMTTYPE=image/jpeg:https://stjohngop.us/wp-content/uploads/2024/02/IMG_9731.jpeg
ORGANIZER;CN="Nick":MAILTO:nick@stjohngop.us
END:VEVENT
END:VCALENDAR