BEGIN:VCALENDAR
VERSION:2.0
PRODID:-//St John GOP - ECPv6.15.20//NONSGML v1.0//EN
CALSCALE:GREGORIAN
METHOD:PUBLISH
X-WR-CALNAME:St John GOP
X-ORIGINAL-URL:https://stjohngop.us
X-WR-CALDESC:Events for St John GOP
REFRESH-INTERVAL;VALUE=DURATION:PT1H
X-Robots-Tag:noindex
X-PUBLISHED-TTL:PT1H
BEGIN:VTIMEZONE
TZID:America/Chicago
BEGIN:DAYLIGHT
TZOFFSETFROM:-0600
TZOFFSETTO:-0500
TZNAME:CDT
DTSTART:20250309T080000
END:DAYLIGHT
BEGIN:STANDARD
TZOFFSETFROM:-0500
TZOFFSETTO:-0600
TZNAME:CST
DTSTART:20251102T070000
END:STANDARD
BEGIN:DAYLIGHT
TZOFFSETFROM:-0600
TZOFFSETTO:-0500
TZNAME:CDT
DTSTART:20260308T080000
END:DAYLIGHT
BEGIN:STANDARD
TZOFFSETFROM:-0500
TZOFFSETTO:-0600
TZNAME:CST
DTSTART:20261101T070000
END:STANDARD
BEGIN:DAYLIGHT
TZOFFSETFROM:-0600
TZOFFSETTO:-0500
TZNAME:CDT
DTSTART:20270314T080000
END:DAYLIGHT
BEGIN:STANDARD
TZOFFSETFROM:-0500
TZOFFSETTO:-0600
TZNAME:CST
DTSTART:20271107T070000
END:STANDARD
END:VTIMEZONE
BEGIN:VEVENT
DTSTART;TZID=America/Chicago:20260429T080000
DTEND;TZID=America/Chicago:20260429T150000
DTSTAMP:20260422T040623
CREATED:20260417T144745Z
LAST-MODIFIED:20260417T144745Z
UID:2614-1777449600-1777474800@stjohngop.us
SUMMARY:RPEC Day at the Capitol
DESCRIPTION:Dear RPEC Members\,\n\nOur 2nd Annual RPEC Day at the Capitol is now two weeks away\, and we want to make sure every parish executive committee across the state has the opportunity to be part of this important gathering.\n\nThis will be a great day filled with collaboration\, training opportunities\, and discussions on statewide initiatives\, including efforts currently underway to expand conservative voter registration across Louisiana. It is also a valuable chance to connect with fellow RPEC leaders and share ideas that will strengthen our party at the local and state levels.\n\n\n\n\n\nWe hope you and members of your committee will join us for this meaningful day of fellowship\, strategy\, and preparation for the work ahead.\n\nRegistration Link: https://square.link/u/udExP9fA\nEvent Invitation: https://fb.me/e/4b69I7lZm\n\nThanks again for your help\,\n\n\n\n— \n\nJustin Green \nDirector of Operations\nRepublican Party of Louisiana www.lagop.com\nEmail: justin@lagop.com\nCell: 225-933-8214\n\n\n\nLike this:Like Loading...
URL:https://stjohngop.us/event/rpec-day-at-the-capitol/
CATEGORIES:RPEC Meeting
ATTACH;FMTTYPE=image/png:https://stjohngop.us/wp-content/uploads/2026/04/Screenshot-2026-04-17-at-9.43.46-AM.png
ORGANIZER;CN="Justin Green":MAILTO:justin@lagop.com
END:VEVENT
END:VCALENDAR