BEGIN:VCALENDAR
VERSION:2.0
PRODID:-//St John GOP - ECPv6.15.20//NONSGML v1.0//EN
CALSCALE:GREGORIAN
METHOD:PUBLISH
X-ORIGINAL-URL:https://stjohngop.us
X-WR-CALDESC:Events for St John GOP
REFRESH-INTERVAL;VALUE=DURATION:PT1H
X-Robots-Tag:noindex
X-PUBLISHED-TTL:PT1H
BEGIN:VTIMEZONE
TZID:America/Chicago
BEGIN:DAYLIGHT
TZOFFSETFROM:-0600
TZOFFSETTO:-0500
TZNAME:CDT
DTSTART:20250309T080000
END:DAYLIGHT
BEGIN:STANDARD
TZOFFSETFROM:-0500
TZOFFSETTO:-0600
TZNAME:CST
DTSTART:20251102T070000
END:STANDARD
BEGIN:DAYLIGHT
TZOFFSETFROM:-0600
TZOFFSETTO:-0500
TZNAME:CDT
DTSTART:20260308T080000
END:DAYLIGHT
BEGIN:STANDARD
TZOFFSETFROM:-0500
TZOFFSETTO:-0600
TZNAME:CST
DTSTART:20261101T070000
END:STANDARD
BEGIN:DAYLIGHT
TZOFFSETFROM:-0600
TZOFFSETTO:-0500
TZNAME:CDT
DTSTART:20270314T080000
END:DAYLIGHT
BEGIN:STANDARD
TZOFFSETFROM:-0500
TZOFFSETTO:-0600
TZNAME:CST
DTSTART:20271107T070000
END:STANDARD
END:VTIMEZONE
BEGIN:VEVENT
DTSTART;TZID=America/Chicago:20260422T090000
DTEND;TZID=America/Chicago:20260422T130000
DTSTAMP:20260420T034522
CREATED:20260418T135830Z
LAST-MODIFIED:20260418T135830Z
UID:2622-1776848400-1776862800@stjohngop.us
SUMMARY:AFP-La Day at Capitol
DESCRIPTION:Hey Louisiana! \nWe’re heading to the Capitol — and YOU’RE invited! This is gearing up to be our biggest and best day at the Capitol yet. After years of fighting for school choice in our state\, now is the time to show up and fight to make sure the funding makes it across the finish line. \nWe are fighting to ensure LA GATOR — Louisiana’s Educational Savings Account (ESA) program — is fully funded so every student has access to the opportunities they need to succeed right here in Louisiana. This critical funding is at risk if we remain silent. \nJoin our incredible grassroots army\, alongside private schools\, homeschool groups\, and families from across the state\, as we take our message to the steps of the Capitol in support of fully funding LA GATOR.\nWhen families show up together\, lawmakers listen. People matter. Presence matters. \nWe need YOUR help to make this a day lawmakers will recognize — and remember. Bring your friends. Bring your family. Let’s show up strong. \n✅ This event is free to attend — but ALL attendees MUST RSVP to confirm attendance and receive merch\, lunch\, and other event materials. \nRSVP NOW to claim your spot! \nLet’s make this our BIGGEST day at the Capitol yet! \nLike this:Like Loading...
URL:https://stjohngop.us/event/afp-la-day-at-capitol/
LOCATION:The Louisiana State Capitol 900 N 3rd St\, Baton Rouge\, LA 70802\, USA\, 900 N 3rd St\, Baton Rouge\, LA\, 70802\, United States
CATEGORIES:Republican Meetings
ATTACH;FMTTYPE=image/png:https://stjohngop.us/wp-content/uploads/2026/04/Screenshot-2026-04-18-at-8.55.51-AM.png
END:VEVENT
END:VCALENDAR