BEGIN:VCALENDAR
VERSION:2.0
PRODID:-//St John GOP - ECPv6.15.20//NONSGML v1.0//EN
CALSCALE:GREGORIAN
METHOD:PUBLISH
X-ORIGINAL-URL:https://stjohngop.us
X-WR-CALDESC:Events for St John GOP
REFRESH-INTERVAL;VALUE=DURATION:PT1H
X-Robots-Tag:noindex
X-PUBLISHED-TTL:PT1H
BEGIN:VTIMEZONE
TZID:America/Chicago
BEGIN:DAYLIGHT
TZOFFSETFROM:-0600
TZOFFSETTO:-0500
TZNAME:CDT
DTSTART:20210314T080000
END:DAYLIGHT
BEGIN:STANDARD
TZOFFSETFROM:-0500
TZOFFSETTO:-0600
TZNAME:CST
DTSTART:20211107T070000
END:STANDARD
BEGIN:DAYLIGHT
TZOFFSETFROM:-0600
TZOFFSETTO:-0500
TZNAME:CDT
DTSTART:20220313T080000
END:DAYLIGHT
BEGIN:STANDARD
TZOFFSETFROM:-0500
TZOFFSETTO:-0600
TZNAME:CST
DTSTART:20221106T070000
END:STANDARD
BEGIN:DAYLIGHT
TZOFFSETFROM:-0600
TZOFFSETTO:-0500
TZNAME:CDT
DTSTART:20230312T080000
END:DAYLIGHT
BEGIN:STANDARD
TZOFFSETFROM:-0500
TZOFFSETTO:-0600
TZNAME:CST
DTSTART:20231105T070000
END:STANDARD
END:VTIMEZONE
BEGIN:VEVENT
DTSTART;VALUE=DATE:20221023
DTEND;VALUE=DATE:20221024
DTSTAMP:20260420T064907
CREATED:20220704T040237Z
LAST-MODIFIED:20220704T040237Z
UID:1898-1666483200-1666569599@stjohngop.us
SUMMARY:Clear the Lanes II” LAGOP Rock 'n Bowl Fundraiser
DESCRIPTION:October 23 – “Clear the Lanes II” LAGOP Rock ‘n Bowl Fundraiser – Lafayette \nLike this:Like Loading...
URL:https://stjohngop.us/event/clear-the-lanes-ii-lagop-rock-n-bowl-fundraiser/
CATEGORIES:LaGOP Fundraiser
END:VEVENT
END:VCALENDAR